BEGIN:VCALENDAR
VERSION:2.0
PRODID:-//American Planning Association Alabama Chapter - ECPv6.15.13//NONSGML v1.0//EN
CALSCALE:GREGORIAN
METHOD:PUBLISH
X-ORIGINAL-URL:https://alabamaplanning.org
X-WR-CALDESC:Events for American Planning Association Alabama Chapter
REFRESH-INTERVAL;VALUE=DURATION:PT1H
X-Robots-Tag:noindex
X-PUBLISHED-TTL:PT1H
BEGIN:VTIMEZONE
TZID:America/Chicago
BEGIN:DAYLIGHT
TZOFFSETFROM:-0600
TZOFFSETTO:-0500
TZNAME:CDT
DTSTART:20170312T080000
END:DAYLIGHT
BEGIN:STANDARD
TZOFFSETFROM:-0500
TZOFFSETTO:-0600
TZNAME:CST
DTSTART:20171105T070000
END:STANDARD
BEGIN:DAYLIGHT
TZOFFSETFROM:-0600
TZOFFSETTO:-0500
TZNAME:CDT
DTSTART:20180311T080000
END:DAYLIGHT
BEGIN:STANDARD
TZOFFSETFROM:-0500
TZOFFSETTO:-0600
TZNAME:CST
DTSTART:20181104T070000
END:STANDARD
BEGIN:DAYLIGHT
TZOFFSETFROM:-0600
TZOFFSETTO:-0500
TZNAME:CDT
DTSTART:20190310T080000
END:DAYLIGHT
BEGIN:STANDARD
TZOFFSETFROM:-0500
TZOFFSETTO:-0600
TZNAME:CST
DTSTART:20191103T070000
END:STANDARD
BEGIN:DAYLIGHT
TZOFFSETFROM:-0600
TZOFFSETTO:-0500
TZNAME:CDT
DTSTART:20200308T080000
END:DAYLIGHT
BEGIN:STANDARD
TZOFFSETFROM:-0500
TZOFFSETTO:-0600
TZNAME:CST
DTSTART:20201101T070000
END:STANDARD
END:VTIMEZONE
BEGIN:VEVENT
DTSTART;TZID=America/Chicago:20190425T080000
DTEND;TZID=America/Chicago:20190425T150000
DTSTAMP:20260420T110201
CREATED:20190329T144323Z
LAST-MODIFIED:20190905T140011Z
UID:10000248-1556179200-1556204400@alabamaplanning.org
SUMMARY:2019 Alabama Association of Floodplain Managers Spring Conference
DESCRIPTION:The Alabama Association of Floodplain Managers announces the 2019 AAFM Spring Conference!\nGraham Creek Interpretive Center | Foley\, AL\nApril 25\, 2019 | 8am – 3pm
URL:https://alabamaplanning.org/event/2019-aafm-spring-conference/
CATEGORIES:AICP CM Opportunities,Events
END:VEVENT
BEGIN:VEVENT
DTSTART;VALUE=DATE:20181022
DTEND;VALUE=DATE:20181025
DTSTAMP:20260420T110201
CREATED:20180820T133031Z
LAST-MODIFIED:20180818T145653Z
UID:10000247-1540166400-1540425599@alabamaplanning.org
SUMMARY:Alabama Association of Floodplain Managers 2018 Fall Conference
DESCRIPTION:It’s that time of year again…time for AAFM’s Fall Conference. The Conference will be held once again in sunny\, beautiful Orange Beach. We are anticipating a wide variety of speakers again this year for enriching your floodplain management knowledge. More details about the program will be forthcoming in the next month. More details can be found on the registration page. Go to the registration page using the link below. \nFall Conference: October 22 – 24\, 2018  Click here for online registration\nIf you prefer to send a check and use a printed form\, you can get your application form HERE.
URL:https://alabamaplanning.org/event/alabama-association-of-floodplain-managers-2018-fall-conference/
LOCATION:SpringHill Suites @ The Wharf\, 4673 Wharf Pkwy W\,\, Orange Beach\, AL\, 36561\, United States
CATEGORIES:AICP CM Opportunities,Events
END:VEVENT
END:VCALENDAR